BEGIN:VCALENDAR
VERSION:2.0
PRODID:-//Estes Park - ECPv6.15.20//NONSGML v1.0//EN
CALSCALE:GREGORIAN
METHOD:PUBLISH
X-ORIGINAL-URL:https://estes-park.com
X-WR-CALDESC:Events for Estes Park
REFRESH-INTERVAL;VALUE=DURATION:PT1H
X-Robots-Tag:noindex
X-PUBLISHED-TTL:PT1H
BEGIN:VTIMEZONE
TZID:America/Denver
BEGIN:DAYLIGHT
TZOFFSETFROM:-0700
TZOFFSETTO:-0600
TZNAME:MDT
DTSTART:20230312T090000
END:DAYLIGHT
BEGIN:STANDARD
TZOFFSETFROM:-0600
TZOFFSETTO:-0700
TZNAME:MST
DTSTART:20231105T080000
END:STANDARD
BEGIN:DAYLIGHT
TZOFFSETFROM:-0700
TZOFFSETTO:-0600
TZNAME:MDT
DTSTART:20240310T090000
END:DAYLIGHT
BEGIN:STANDARD
TZOFFSETFROM:-0600
TZOFFSETTO:-0700
TZNAME:MST
DTSTART:20241103T080000
END:STANDARD
BEGIN:DAYLIGHT
TZOFFSETFROM:-0700
TZOFFSETTO:-0600
TZNAME:MDT
DTSTART:20250309T090000
END:DAYLIGHT
BEGIN:STANDARD
TZOFFSETFROM:-0600
TZOFFSETTO:-0700
TZNAME:MST
DTSTART:20251102T080000
END:STANDARD
END:VTIMEZONE
BEGIN:VEVENT
DTSTART;TZID=America/Denver:20241207T120000
DTEND;TZID=America/Denver:20241207T170000
DTSTAMP:20260422T035512
CREATED:20241009T141122Z
LAST-MODIFIED:20241009T141238Z
UID:10000052-1733572800-1733590800@estes-park.com
SUMMARY:Snowman Festival
DESCRIPTION:This great family event includes local food and beer trucks\, favorite Frozen princesses\, and a spectacular LED lighted tree playing a light show timed to music! There will be carriage rides\, an ice sculpture\, visits with Santa\, and a heated activity tent for kids. Join the Snowman Scavenger Hunt through town to find hidden snowman figurines.
URL:https://estes-park.com/event/snowman-festival/
LOCATION:Bond Park – Downtown Estes\, 170 MacGregor Ave\, Estes Park\, CO\, 80517\, United States
CATEGORIES:Featured
ATTACH;FMTTYPE=image/png:https://estes-park.com/app/uploads/2024/10/Snowman-festivl.png
END:VEVENT
END:VCALENDAR