BEGIN:VCALENDAR
VERSION:2.0
PRODID:-//Estes Park - ECPv6.15.20//NONSGML v1.0//EN
CALSCALE:GREGORIAN
METHOD:PUBLISH
X-ORIGINAL-URL:https://estes-park.com
X-WR-CALDESC:Events for Estes Park
REFRESH-INTERVAL;VALUE=DURATION:PT1H
X-Robots-Tag:noindex
X-PUBLISHED-TTL:PT1H
BEGIN:VTIMEZONE
TZID:America/Denver
BEGIN:DAYLIGHT
TZOFFSETFROM:-0700
TZOFFSETTO:-0600
TZNAME:MDT
DTSTART:20250309T090000
END:DAYLIGHT
BEGIN:STANDARD
TZOFFSETFROM:-0600
TZOFFSETTO:-0700
TZNAME:MST
DTSTART:20251102T080000
END:STANDARD
BEGIN:DAYLIGHT
TZOFFSETFROM:-0700
TZOFFSETTO:-0600
TZNAME:MDT
DTSTART:20260308T090000
END:DAYLIGHT
BEGIN:STANDARD
TZOFFSETFROM:-0600
TZOFFSETTO:-0700
TZNAME:MST
DTSTART:20261101T080000
END:STANDARD
BEGIN:DAYLIGHT
TZOFFSETFROM:-0700
TZOFFSETTO:-0600
TZNAME:MDT
DTSTART:20270314T090000
END:DAYLIGHT
BEGIN:STANDARD
TZOFFSETFROM:-0600
TZOFFSETTO:-0700
TZNAME:MST
DTSTART:20271107T080000
END:STANDARD
END:VTIMEZONE
BEGIN:VEVENT
DTSTART;TZID=America/Denver:20260704T170000
DTEND;TZID=America/Denver:20260704T220000
DTSTAMP:20260421T062405
CREATED:20260406T214815Z
LAST-MODIFIED:20260406T215254Z
UID:10000065-1783184400-1783202400@estes-park.com
SUMMARY:Fireworks & Big Bang Concert
DESCRIPTION:The Town of Estes Park puts on an amazing Independence Day fireworks show over Lake Estes every year. The show starts around 9:30pm and the public is invited to find a good viewing area along the lake. Viewers are also encouraged to plan ahead\, come early and use public transportation if at all possible. Traffic gets congested during this special evening. \nYou can also watch the fireworks from the Estes Park Event Center and the Big Bang Concert. Come sit in the covered\, open air grandstand seating and enjoy Colorado’s tribute to The Eagles – The Long Run. Gates open at 5pm and the music starts around 6pm. While you must purchase tickets for this event\, the parking is free and there will be plenty of food and beverage options! \n  \nBig Bang Convert Website: www.bigbangconcert.com
URL:https://estes-park.com/event/fireworks-big-bang-concert/
LOCATION:Estes Park Events Complex\, 1125 Rooftop Way\, Estes Park\, CO\, 80517\, United States
CATEGORIES:Featured
ATTACH;FMTTYPE=image/jpeg:https://estes-park.com/app/uploads/2026/04/fireworks.jpg
END:VEVENT
BEGIN:VEVENT
DTSTART;VALUE=DATE:20260706
DTEND;VALUE=DATE:20260712
DTSTAMP:20260421T062405
CREATED:20250219T205440Z
LAST-MODIFIED:20251114T162140Z
UID:10000058-1783296000-1783814399@estes-park.com
SUMMARY:Rooftop Rodeo
DESCRIPTION:Award winning rodeo with real PRCA cowboys and cowgirls from around the west. \nThis fun-filled week of rodeo starts on July 6\, with by 6 days of rodeo action.  The big parade through downtown Estes Park will be July 6 at 10am on Elkhorn Avenue! \nTickets on sale Nov 19th – And always sell out fast \nWatch bareback and saddle bronc riding\, tie down roping\, steer wrestling\, team roping\, barrel racing\, and bull riding.  A real western tradition! \n  \nEvent Website: www.rooftoprodeo.com
URL:https://estes-park.com/event/rooftop-rodeo-2/
LOCATION:Estes Park Fairgrounds\, 1209 Manford Ave\,\, Estes Park\, CO\, 80517
CATEGORIES:Featured
ATTACH;FMTTYPE=image/jpeg:https://estes-park.com/app/uploads/2025/02/rooftop-rodeo-e1748622581502.jpg
END:VEVENT
END:VCALENDAR