BEGIN:VCALENDAR
VERSION:2.0
PRODID:-//Estes Park - ECPv6.15.20//NONSGML v1.0//EN
CALSCALE:GREGORIAN
METHOD:PUBLISH
X-WR-CALNAME:Estes Park
X-ORIGINAL-URL:https://estes-park.com
X-WR-CALDESC:Events for Estes Park
REFRESH-INTERVAL;VALUE=DURATION:PT1H
X-Robots-Tag:noindex
X-PUBLISHED-TTL:PT1H
BEGIN:VTIMEZONE
TZID:America/Denver
BEGIN:DAYLIGHT
TZOFFSETFROM:-0700
TZOFFSETTO:-0600
TZNAME:MDT
DTSTART:20250309T090000
END:DAYLIGHT
BEGIN:STANDARD
TZOFFSETFROM:-0600
TZOFFSETTO:-0700
TZNAME:MST
DTSTART:20251102T080000
END:STANDARD
BEGIN:DAYLIGHT
TZOFFSETFROM:-0700
TZOFFSETTO:-0600
TZNAME:MDT
DTSTART:20260308T090000
END:DAYLIGHT
BEGIN:STANDARD
TZOFFSETFROM:-0600
TZOFFSETTO:-0700
TZNAME:MST
DTSTART:20261101T080000
END:STANDARD
BEGIN:DAYLIGHT
TZOFFSETFROM:-0700
TZOFFSETTO:-0600
TZNAME:MDT
DTSTART:20270314T090000
END:DAYLIGHT
BEGIN:STANDARD
TZOFFSETFROM:-0600
TZOFFSETTO:-0700
TZNAME:MST
DTSTART:20271107T080000
END:STANDARD
END:VTIMEZONE
BEGIN:VEVENT
DTSTART;VALUE=DATE:20260911
DTEND;VALUE=DATE:20260914
DTSTAMP:20260421T093301
CREATED:20220202T200754Z
LAST-MODIFIED:20260330T164905Z
UID:10000034-1789084800-1789343999@estes-park.com
SUMMARY:Longs Peak Scottish Irish Highland Festival
DESCRIPTION:Longs Peak Scottish Irish Highland Festival is celebrating it’s 50th year! \nDid you know that Estes Park is the Celtic Capital of America? \nJoin the clans for a weekend of fun. Watch the best in Celtic music & dance\, dogs\, a parade\, jousting & athletic competitions. \nIndividual tickets or Weekend Passes available online. \n  \nEvent Website: www.scotfest.com
URL:https://estes-park.com/event/longs-peak-scottish-irish-highland-festival/
LOCATION:Estes Park Events Complex\, 1125 Rooftop Way\, Estes Park\, CO\, 80517\, United States
CATEGORIES:Featured
ATTACH;FMTTYPE=image/jpeg:https://estes-park.com/app/uploads/2019/01/Longs-Peak-Scottish-Irish-Highland-Festival-bagpipes2.jpg
END:VEVENT
END:VCALENDAR