BEGIN:VCALENDAR
VERSION:2.0
PRODID:-//Estes Park - ECPv6.15.20//NONSGML v1.0//EN
CALSCALE:GREGORIAN
METHOD:PUBLISH
X-ORIGINAL-URL:https://estes-park.com
X-WR-CALDESC:Events for Estes Park
REFRESH-INTERVAL;VALUE=DURATION:PT1H
X-Robots-Tag:noindex
X-PUBLISHED-TTL:PT1H
BEGIN:VTIMEZONE
TZID:America/Denver
BEGIN:DAYLIGHT
TZOFFSETFROM:-0700
TZOFFSETTO:-0600
TZNAME:MDT
DTSTART:20250309T090000
END:DAYLIGHT
BEGIN:STANDARD
TZOFFSETFROM:-0600
TZOFFSETTO:-0700
TZNAME:MST
DTSTART:20251102T080000
END:STANDARD
BEGIN:DAYLIGHT
TZOFFSETFROM:-0700
TZOFFSETTO:-0600
TZNAME:MDT
DTSTART:20260308T090000
END:DAYLIGHT
BEGIN:STANDARD
TZOFFSETFROM:-0600
TZOFFSETTO:-0700
TZNAME:MST
DTSTART:20261101T080000
END:STANDARD
BEGIN:DAYLIGHT
TZOFFSETFROM:-0700
TZOFFSETTO:-0600
TZNAME:MDT
DTSTART:20270314T090000
END:DAYLIGHT
BEGIN:STANDARD
TZOFFSETFROM:-0600
TZOFFSETTO:-0700
TZNAME:MST
DTSTART:20271107T080000
END:STANDARD
END:VTIMEZONE
BEGIN:VEVENT
DTSTART;VALUE=DATE:20261003
DTEND;VALUE=DATE:20261005
DTSTAMP:20260421T105003
CREATED:20250219T213845Z
LAST-MODIFIED:20260330T165225Z
UID:10000059-1790985600-1791158399@estes-park.com
SUMMARY:Elk Festival
DESCRIPTION:Celebrate “Elktober” in Estes Park\, and the annual elk rut! \nIt’s a great time to experience Estes Park’s natural beauty and wildlife up close. \nThere’s native American storytelling and music\, kids games\, educational areas\, a beer garden\, food trucks\, and live entertainment. \nBefore you go – read out post on Everything Elk \nEvent Website: https://eventsinestes.com/estes-parks-elk-festival/
URL:https://estes-park.com/event/elk-festival/
LOCATION:Bond Park – Downtown Estes\, 170 MacGregor Ave\, Estes Park\, CO\, 80517\, United States
CATEGORIES:Featured
ATTACH;FMTTYPE=image/jpeg:https://estes-park.com/app/uploads/2025/01/pexels-franki-frank-15537669-scaled-e1774889532782.jpg
END:VEVENT
END:VCALENDAR