BEGIN:VCALENDAR
VERSION:2.0
PRODID:-//Estes Park - ECPv6.15.20//NONSGML v1.0//EN
CALSCALE:GREGORIAN
METHOD:PUBLISH
X-ORIGINAL-URL:https://estes-park.com
X-WR-CALDESC:Events for Estes Park
REFRESH-INTERVAL;VALUE=DURATION:PT1H
X-Robots-Tag:noindex
X-PUBLISHED-TTL:PT1H
BEGIN:VTIMEZONE
TZID:America/Denver
BEGIN:DAYLIGHT
TZOFFSETFROM:-0700
TZOFFSETTO:-0600
TZNAME:MDT
DTSTART:20180311T090000
END:DAYLIGHT
BEGIN:STANDARD
TZOFFSETFROM:-0600
TZOFFSETTO:-0700
TZNAME:MST
DTSTART:20181104T080000
END:STANDARD
BEGIN:DAYLIGHT
TZOFFSETFROM:-0700
TZOFFSETTO:-0600
TZNAME:MDT
DTSTART:20190310T090000
END:DAYLIGHT
BEGIN:STANDARD
TZOFFSETFROM:-0600
TZOFFSETTO:-0700
TZNAME:MST
DTSTART:20191103T080000
END:STANDARD
BEGIN:DAYLIGHT
TZOFFSETFROM:-0700
TZOFFSETTO:-0600
TZNAME:MDT
DTSTART:20200308T090000
END:DAYLIGHT
BEGIN:STANDARD
TZOFFSETFROM:-0600
TZOFFSETTO:-0700
TZNAME:MST
DTSTART:20201101T080000
END:STANDARD
END:VTIMEZONE
BEGIN:VEVENT
DTSTART;TZID=America/Denver:20190606T080000
DTEND;TZID=America/Denver:20190606T203000
DTSTAMP:20260421T094725
CREATED:20190320T182253Z
LAST-MODIFIED:20190320T182518Z
UID:10000013-1559808000-1559853000@estes-park.com
SUMMARY:World Migratory Bird Day
DESCRIPTION:Rocky Mountain National Park celebrates World Migratory Bird Day with bird watching in the field from 8a – noon\, and a special evening program from 7 – 8:30pm at the Beaver Meadows Visitor Center. \nRMNP is a great stopping spot on spring bird migration routes\, with over 200 species of birds spotted.
URL:https://estes-park.com/event/world-migratory-bird-day/
LOCATION:Beaver Meadows Visitor Center\, 1000 US-36\, Estes Park\, CO\, 80517\, United States
ATTACH;FMTTYPE=image/jpeg:https://estes-park.com/app/uploads/2018/12/Rocky-Mountain-Conservancy-Summer-Birding-with-a-Naturalist.jpg
END:VEVENT
BEGIN:VEVENT
DTSTART;VALUE=DATE:20190616
DTEND;VALUE=DATE:20190617
DTSTAMP:20260421T094725
CREATED:20190614T160106Z
LAST-MODIFIED:20190614T161237Z
UID:10000015-1560643200-1560729599@estes-park.com
SUMMARY:Estes Park Races
DESCRIPTION:Estes Park Marathon and Half Marathon\, 10K\, 5K\, and Kids Fun Run on Saturday
URL:https://estes-park.com/event/estes-park-races/
LOCATION:CO
ATTACH;FMTTYPE=image/jpeg:https://estes-park.com/app/uploads/2019/01/Estes-Park-Marathon2.jpg
END:VEVENT
END:VCALENDAR