BEGIN:VCALENDAR
VERSION:2.0
PRODID:-//Estes Park - ECPv6.15.20//NONSGML v1.0//EN
CALSCALE:GREGORIAN
METHOD:PUBLISH
X-ORIGINAL-URL:https://estes-park.com
X-WR-CALDESC:Events for Estes Park
REFRESH-INTERVAL;VALUE=DURATION:PT1H
X-Robots-Tag:noindex
X-PUBLISHED-TTL:PT1H
BEGIN:VTIMEZONE
TZID:America/Denver
BEGIN:DAYLIGHT
TZOFFSETFROM:-0700
TZOFFSETTO:-0600
TZNAME:MDT
DTSTART:20180311T090000
END:DAYLIGHT
BEGIN:STANDARD
TZOFFSETFROM:-0600
TZOFFSETTO:-0700
TZNAME:MST
DTSTART:20181104T080000
END:STANDARD
BEGIN:DAYLIGHT
TZOFFSETFROM:-0700
TZOFFSETTO:-0600
TZNAME:MDT
DTSTART:20190310T090000
END:DAYLIGHT
BEGIN:STANDARD
TZOFFSETFROM:-0600
TZOFFSETTO:-0700
TZNAME:MST
DTSTART:20191103T080000
END:STANDARD
BEGIN:DAYLIGHT
TZOFFSETFROM:-0700
TZOFFSETTO:-0600
TZNAME:MDT
DTSTART:20200308T090000
END:DAYLIGHT
BEGIN:STANDARD
TZOFFSETFROM:-0600
TZOFFSETTO:-0700
TZNAME:MST
DTSTART:20201101T080000
END:STANDARD
END:VTIMEZONE
BEGIN:VEVENT
DTSTART;TZID=America/Denver:20190910T180000
DTEND;TZID=America/Denver:20190912T120000
DTSTAMP:20260421T050009
CREATED:20190805T210850Z
LAST-MODIFIED:20190805T210850Z
UID:10000017-1568138400-1568289600@estes-park.com
SUMMARY:Fall Nature Photography Workshop
DESCRIPTION:Inspired by Nature Photography Workshop at YMCA of the Rockies Sept 10-12. \nCapture the beauty of Rocky Mountain National Park on a sunrise hike\, on a waterfall hike\, and on a scenic drive up Trail Ridge Road with Scott Pope\, well-known RMNP photographer. \nKeynote speaker – Professional Photographer John Fielder is offering an optional workshop on 9/10. \nLodge rooms available starting at $119/night plus weekend program fee of $95 that includes food and transportation. \n  \n 
URL:https://estes-park.com/event/fall-nature-photography-workshop/
LOCATION:YMCA of the Rockies\, 2515 Tunnel Road\, Estes Park\, CO\, 80517\, United States
ATTACH;FMTTYPE=image/jpeg:https://estes-park.com/app/uploads/2019/08/Fall_Photography.jpg
END:VEVENT
END:VCALENDAR