BEGIN:VCALENDAR
VERSION:2.0
PRODID:-//Estes Park - ECPv6.15.20//NONSGML v1.0//EN
CALSCALE:GREGORIAN
METHOD:PUBLISH
X-WR-CALNAME:Estes Park
X-ORIGINAL-URL:https://estes-park.com
X-WR-CALDESC:Events for Estes Park
REFRESH-INTERVAL;VALUE=DURATION:PT1H
X-Robots-Tag:noindex
X-PUBLISHED-TTL:PT1H
BEGIN:VTIMEZONE
TZID:America/Denver
BEGIN:DAYLIGHT
TZOFFSETFROM:-0700
TZOFFSETTO:-0600
TZNAME:MDT
DTSTART:20190310T090000
END:DAYLIGHT
BEGIN:STANDARD
TZOFFSETFROM:-0600
TZOFFSETTO:-0700
TZNAME:MST
DTSTART:20191103T080000
END:STANDARD
BEGIN:DAYLIGHT
TZOFFSETFROM:-0700
TZOFFSETTO:-0600
TZNAME:MDT
DTSTART:20200308T090000
END:DAYLIGHT
BEGIN:STANDARD
TZOFFSETFROM:-0600
TZOFFSETTO:-0700
TZNAME:MST
DTSTART:20201101T080000
END:STANDARD
BEGIN:DAYLIGHT
TZOFFSETFROM:-0700
TZOFFSETTO:-0600
TZNAME:MDT
DTSTART:20210314T090000
END:DAYLIGHT
BEGIN:STANDARD
TZOFFSETFROM:-0600
TZOFFSETTO:-0700
TZNAME:MST
DTSTART:20211107T080000
END:STANDARD
END:VTIMEZONE
BEGIN:VEVENT
DTSTART;TZID=America/Denver:20200118T120000
DTEND;TZID=America/Denver:20200119T160000
DTSTAMP:20260420T221853
CREATED:20191125T184233Z
LAST-MODIFIED:20191125T184449Z
UID:10000019-1579348800-1579449600@estes-park.com
SUMMARY:Winter Festival
DESCRIPTION:Estes Park Winter Festival – January 18 & 19 from 12-4pm both days. \nVisit Estes Park this Martin Luther King Weekend and stop by the Winter Festival at the Estes Park Events Center for some weekend fun!  Sample Beer from local breweries and choose your favorite chili at the Chili Cookoff. \nJoin the Silent Disco or listen to live music while your kids have fun in Bounce Houses. \nFree Shuttle Service around Estes Park will be provided.
URL:https://estes-park.com/event/winter-festival/
LOCATION:Estes Park Events Complex\, 1125 Rooftop Way\, Estes Park\, CO\, 80517\, United States
CATEGORIES:Featured
ATTACH;FMTTYPE=image/jpeg:https://estes-park.com/app/uploads/2019/11/Estes-Park-Winter-Festival-e1574707289481.jpg
END:VEVENT
BEGIN:VEVENT
DTSTART;VALUE=DATE:20200125
DTEND;VALUE=DATE:20200126
DTSTAMP:20260420T221853
CREATED:20190104T163237Z
LAST-MODIFIED:20191210T180817Z
UID:10000005-1579910400-1579996799@estes-park.com
SUMMARY:Winter Ecology:  A Snowshoeing Trek
DESCRIPTION:Join the Rocky Mountain Nature Conservancy for a fun and educational four hour snowshoe hike for kids and families! \nEnjoy getting outside in winter and learning how plants and animals survive sometimes harsh winter conditions.  Learn about the properties of snow as you trek through pine\, spruce\, and fir forests. \nKids 12 and under are free.  Adults $10\, non-member. \nRegistration Required.  Call 970-586-3262.
URL:https://estes-park.com/event/winter-ecology-a-snowshoeing-trek/2020-01-25/
LOCATION:Rocky Mountain Conservancy\, 1895 Fall River Road\, Estes Park\, CO\, 80517\, United States
ATTACH;FMTTYPE=image/jpeg:https://estes-park.com/app/uploads/2018/12/Rocky-Mountain-Conservancy-Snowshoe-Kids-Families.jpg
END:VEVENT
END:VCALENDAR