BEGIN:VCALENDAR
VERSION:2.0
PRODID:-//Estes Park - ECPv6.15.20//NONSGML v1.0//EN
CALSCALE:GREGORIAN
METHOD:PUBLISH
X-WR-CALNAME:Estes Park
X-ORIGINAL-URL:https://estes-park.com
X-WR-CALDESC:Events for Estes Park
REFRESH-INTERVAL;VALUE=DURATION:PT1H
X-Robots-Tag:noindex
X-PUBLISHED-TTL:PT1H
BEGIN:VTIMEZONE
TZID:America/Denver
BEGIN:DAYLIGHT
TZOFFSETFROM:-0700
TZOFFSETTO:-0600
TZNAME:MDT
DTSTART:20190310T090000
END:DAYLIGHT
BEGIN:STANDARD
TZOFFSETFROM:-0600
TZOFFSETTO:-0700
TZNAME:MST
DTSTART:20191103T080000
END:STANDARD
BEGIN:DAYLIGHT
TZOFFSETFROM:-0700
TZOFFSETTO:-0600
TZNAME:MDT
DTSTART:20200308T090000
END:DAYLIGHT
BEGIN:STANDARD
TZOFFSETFROM:-0600
TZOFFSETTO:-0700
TZNAME:MST
DTSTART:20201101T080000
END:STANDARD
BEGIN:DAYLIGHT
TZOFFSETFROM:-0700
TZOFFSETTO:-0600
TZNAME:MDT
DTSTART:20210314T090000
END:DAYLIGHT
BEGIN:STANDARD
TZOFFSETFROM:-0600
TZOFFSETTO:-0700
TZNAME:MST
DTSTART:20211107T080000
END:STANDARD
END:VTIMEZONE
BEGIN:VEVENT
DTSTART;VALUE=DATE:20200208
DTEND;VALUE=DATE:20200209
DTSTAMP:20260420T202816
CREATED:20190104T163237Z
LAST-MODIFIED:20191210T180817Z
UID:10000006-1581120000-1581206399@estes-park.com
SUMMARY:Winter Ecology:  A Snowshoeing Trek
DESCRIPTION:Join the Rocky Mountain Nature Conservancy for a fun and educational four hour snowshoe hike for kids and families! \nEnjoy getting outside in winter and learning how plants and animals survive sometimes harsh winter conditions.  Learn about the properties of snow as you trek through pine\, spruce\, and fir forests. \nKids 12 and under are free.  Adults $10\, non-member. \nRegistration Required.  Call 970-586-3262.
URL:https://estes-park.com/event/winter-ecology-a-snowshoeing-trek/2020-02-08/
LOCATION:Rocky Mountain Conservancy\, 1895 Fall River Road\, Estes Park\, CO\, 80517\, United States
ATTACH;FMTTYPE=image/jpeg:https://estes-park.com/app/uploads/2018/12/Rocky-Mountain-Conservancy-Snowshoe-Kids-Families.jpg
END:VEVENT
BEGIN:VEVENT
DTSTART;TZID=America/Denver:20200214T190000
DTEND;TZID=America/Denver:20200217T190000
DTSTAMP:20260420T202816
CREATED:20190208T170353Z
LAST-MODIFIED:20191129T164455Z
UID:10000009-1581706800-1581966000@estes-park.com
SUMMARY:Mountaineering Weekend
DESCRIPTION:5th Annual Mountaineering Weekend at YMCA of the Rockies is coming President’s Day weekend. \nFeaturing family snowshoe hikes\, winter orienteering lessons\, search & rescue dogs\, yoga classes\, ice anchor demonstrations\, and the chance to explore a snow cave! \nHave fun with YMCA activities and excursions for all ages and every level\, including crafts\, ice skating on a natural pond\, roller skating\, and indoor rock climbing on a new 25 ft wall. \nTwo great speakers for evening programs by leading explorers\, and lots of room to explore the great outdoors.
URL:https://estes-park.com/event/mountaineering-weekend/
LOCATION:YMCA of the Rockies\, 2515 Tunnel Road\, Estes Park\, CO\, 80517\, United States
ATTACH;FMTTYPE=image/jpeg:https://estes-park.com/app/uploads/2019/02/Mountaineering-Weekend-2017-e1549644995975.jpg
END:VEVENT
BEGIN:VEVENT
DTSTART;VALUE=DATE:20200222
DTEND;VALUE=DATE:20200223
DTSTAMP:20260420T202816
CREATED:20190104T163237Z
LAST-MODIFIED:20191210T180817Z
UID:10000007-1582329600-1582415999@estes-park.com
SUMMARY:Winter Ecology:  A Snowshoeing Trek
DESCRIPTION:Join the Rocky Mountain Nature Conservancy for a fun and educational four hour snowshoe hike for kids and families! \nEnjoy getting outside in winter and learning how plants and animals survive sometimes harsh winter conditions.  Learn about the properties of snow as you trek through pine\, spruce\, and fir forests. \nKids 12 and under are free.  Adults $10\, non-member. \nRegistration Required.  Call 970-586-3262.
URL:https://estes-park.com/event/winter-ecology-a-snowshoeing-trek/2020-02-22/
LOCATION:Rocky Mountain Conservancy\, 1895 Fall River Road\, Estes Park\, CO\, 80517\, United States
ATTACH;FMTTYPE=image/jpeg:https://estes-park.com/app/uploads/2018/12/Rocky-Mountain-Conservancy-Snowshoe-Kids-Families.jpg
END:VEVENT
END:VCALENDAR