BEGIN:VCALENDAR
VERSION:2.0
PRODID:-//Estes Park - ECPv6.15.20//NONSGML v1.0//EN
CALSCALE:GREGORIAN
METHOD:PUBLISH
X-WR-CALNAME:Estes Park
X-ORIGINAL-URL:https://estes-park.com
X-WR-CALDESC:Events for Estes Park
REFRESH-INTERVAL;VALUE=DURATION:PT1H
X-Robots-Tag:noindex
X-PUBLISHED-TTL:PT1H
BEGIN:VTIMEZONE
TZID:America/Denver
BEGIN:DAYLIGHT
TZOFFSETFROM:-0700
TZOFFSETTO:-0600
TZNAME:MDT
DTSTART:20190310T090000
END:DAYLIGHT
BEGIN:STANDARD
TZOFFSETFROM:-0600
TZOFFSETTO:-0700
TZNAME:MST
DTSTART:20191103T080000
END:STANDARD
BEGIN:DAYLIGHT
TZOFFSETFROM:-0700
TZOFFSETTO:-0600
TZNAME:MDT
DTSTART:20200308T090000
END:DAYLIGHT
BEGIN:STANDARD
TZOFFSETFROM:-0600
TZOFFSETTO:-0700
TZNAME:MST
DTSTART:20201101T080000
END:STANDARD
BEGIN:DAYLIGHT
TZOFFSETFROM:-0700
TZOFFSETTO:-0600
TZNAME:MDT
DTSTART:20210314T090000
END:DAYLIGHT
BEGIN:STANDARD
TZOFFSETFROM:-0600
TZOFFSETTO:-0700
TZNAME:MST
DTSTART:20211107T080000
END:STANDARD
END:VTIMEZONE
BEGIN:VEVENT
DTSTART;VALUE=DATE:20200307
DTEND;VALUE=DATE:20200308
DTSTAMP:20260420T183711
CREATED:20190104T163237Z
LAST-MODIFIED:20191210T180817Z
UID:10000008-1583539200-1583625599@estes-park.com
SUMMARY:Winter Ecology:  A Snowshoeing Trek
DESCRIPTION:Join the Rocky Mountain Nature Conservancy for a fun and educational four hour snowshoe hike for kids and families! \nEnjoy getting outside in winter and learning how plants and animals survive sometimes harsh winter conditions.  Learn about the properties of snow as you trek through pine\, spruce\, and fir forests. \nKids 12 and under are free.  Adults $10\, non-member. \nRegistration Required.  Call 970-586-3262.
URL:https://estes-park.com/event/winter-ecology-a-snowshoeing-trek/2020-03-07/
LOCATION:Rocky Mountain Conservancy\, 1895 Fall River Road\, Estes Park\, CO\, 80517\, United States
ATTACH;FMTTYPE=image/jpeg:https://estes-park.com/app/uploads/2018/12/Rocky-Mountain-Conservancy-Snowshoe-Kids-Families.jpg
END:VEVENT
END:VCALENDAR