BEGIN:VCALENDAR
VERSION:2.0
PRODID:-//Estes Park - ECPv6.15.20//NONSGML v1.0//EN
CALSCALE:GREGORIAN
METHOD:PUBLISH
X-ORIGINAL-URL:https://estes-park.com
X-WR-CALDESC:Events for Estes Park
REFRESH-INTERVAL;VALUE=DURATION:PT1H
X-Robots-Tag:noindex
X-PUBLISHED-TTL:PT1H
BEGIN:VTIMEZONE
TZID:America/Denver
BEGIN:DAYLIGHT
TZOFFSETFROM:-0700
TZOFFSETTO:-0600
TZNAME:MDT
DTSTART:20190310T090000
END:DAYLIGHT
BEGIN:STANDARD
TZOFFSETFROM:-0600
TZOFFSETTO:-0700
TZNAME:MST
DTSTART:20191103T080000
END:STANDARD
BEGIN:DAYLIGHT
TZOFFSETFROM:-0700
TZOFFSETTO:-0600
TZNAME:MDT
DTSTART:20200308T090000
END:DAYLIGHT
BEGIN:STANDARD
TZOFFSETFROM:-0600
TZOFFSETTO:-0700
TZNAME:MST
DTSTART:20201101T080000
END:STANDARD
BEGIN:DAYLIGHT
TZOFFSETFROM:-0700
TZOFFSETTO:-0600
TZNAME:MDT
DTSTART:20210314T090000
END:DAYLIGHT
BEGIN:STANDARD
TZOFFSETFROM:-0600
TZOFFSETTO:-0700
TZNAME:MST
DTSTART:20211107T080000
END:STANDARD
END:VTIMEZONE
BEGIN:VEVENT
DTSTART;VALUE=DATE:20200606
DTEND;VALUE=DATE:20200608
DTSTAMP:20260420T131950
CREATED:20181224T175128Z
LAST-MODIFIED:20240731T220935Z
UID:10000003-1591401600-1591574399@estes-park.com
SUMMARY:Estes Park Jazz Fest_OLD
DESCRIPTION:The Estes Park Jazz Fest is announcing their return to Performance Park Amphitheater this August\, headlined by one of Denver’s most popular jazz ensembles! \n3:00pm – 4:00pm — Estes Park Jazz Big Band \n4:30pm – 5:30pm — John Mills Jazz Orchestra \n6:00pm – 8:00pm — Metropolitan Jazz Orchestra \nThe concert is free and open to the public. \n  \nEvent Website: www.estesparkjazzfest.com \n 
URL:https://estes-park.com/event/estes-park-jazz-fest/
LOCATION:Performance Park\, 435 W. Elkhorn Ave\, Estes Park\, CO\, 80517\, United States
CATEGORIES:Featured
ATTACH;FMTTYPE=image/jpeg:https://estes-park.com/app/uploads/2018/12/jazz-fest-concert.jpg
END:VEVENT
END:VCALENDAR