BEGIN:VCALENDAR
VERSION:2.0
PRODID:-//Estes Park - ECPv6.15.20//NONSGML v1.0//EN
CALSCALE:GREGORIAN
METHOD:PUBLISH
X-WR-CALNAME:Estes Park
X-ORIGINAL-URL:https://estes-park.com
X-WR-CALDESC:Events for Estes Park
REFRESH-INTERVAL;VALUE=DURATION:PT1H
X-Robots-Tag:noindex
X-PUBLISHED-TTL:PT1H
BEGIN:VTIMEZONE
TZID:America/Denver
BEGIN:DAYLIGHT
TZOFFSETFROM:-0700
TZOFFSETTO:-0600
TZNAME:MDT
DTSTART:20180311T090000
END:DAYLIGHT
BEGIN:STANDARD
TZOFFSETFROM:-0600
TZOFFSETTO:-0700
TZNAME:MST
DTSTART:20181104T080000
END:STANDARD
BEGIN:DAYLIGHT
TZOFFSETFROM:-0700
TZOFFSETTO:-0600
TZNAME:MDT
DTSTART:20190310T090000
END:DAYLIGHT
BEGIN:STANDARD
TZOFFSETFROM:-0600
TZOFFSETTO:-0700
TZNAME:MST
DTSTART:20191103T080000
END:STANDARD
BEGIN:DAYLIGHT
TZOFFSETFROM:-0700
TZOFFSETTO:-0600
TZNAME:MDT
DTSTART:20200308T090000
END:DAYLIGHT
BEGIN:STANDARD
TZOFFSETFROM:-0600
TZOFFSETTO:-0700
TZNAME:MST
DTSTART:20201101T080000
END:STANDARD
END:VTIMEZONE
BEGIN:VEVENT
DTSTART;TZID=America/Denver:20190310T110000
DTEND;TZID=America/Denver:20190310T140000
DTSTAMP:20260421T164224
CREATED:20190225T001202Z
LAST-MODIFIED:20190225T001740Z
UID:10000011-1552215600-1552226400@estes-park.com
SUMMARY:Skyview Weddings Open House
DESCRIPTION:Open House Event at Skyview at Fall River Village – Estes Park’s exciting new Wedding Venue. \nVisit ballroom\, ceremony and cocktail decks staged and decorated for a wedding. \nMeet local vendors\, enjoy a complimentary drink and appetizers\, and take in the views! \n2019 Wedding Dates still available.
URL:https://estes-park.com/event/skyview-open-house/
LOCATION:Skyview at Fall River Village\, 278 Sunny Acres Court\, Estes Park\, CO\, 80517\, United States
ATTACH;FMTTYPE=image/jpeg:https://estes-park.com/app/uploads/2019/02/Skyview-Wedding-Venue.jpg
ORGANIZER;CN="Fall River Village":MAILTO:SkyView@FallRiverVillage.com
END:VEVENT
BEGIN:VEVENT
DTSTART;TZID=America/Denver:20190308T080000
DTEND;TZID=America/Denver:20190310T170000
DTSTAMP:20260421T164224
CREATED:20190220T164333Z
LAST-MODIFIED:20190220T164442Z
UID:10000010-1552032000-1552237200@estes-park.com
SUMMARY:Photographing Winter Landscapes
DESCRIPTION:Photography workshop that is both technical and fun with field excursions to shoot at Sprague Lake\, Bear Lake\, and Nymph Lake. \nLearn about composition and beauty in winter scenes and creative camera and lens techniques for winter. \nSuitable for beginning to advanced photographers.  Registration required.
URL:https://estes-park.com/event/photographing-winter-landscapes/
LOCATION:Rocky Mountain Conservancy\, 1895 Fall River Road\, Estes Park\, CO\, 80517\, United States
ATTACH;FMTTYPE=image/jpeg:https://estes-park.com/app/uploads/2018/12/YWG_4362_4_5_6-3-e1545844665115.jpg
END:VEVENT
BEGIN:VEVENT
DTSTART;VALUE=DATE:20190119
DTEND;VALUE=DATE:20190121
DTSTAMP:20260421T164224
CREATED:20181224T173046Z
LAST-MODIFIED:20190222T002005Z
UID:10000002-1547856000-1548028799@estes-park.com
SUMMARY:Estes Park Winter Festival
DESCRIPTION:1 to 5 pm both days of Martin Luther King Weekend! \nSample beer from local breweries and chili at the Chili Cookoff. \nLots of fun for the whole family with live entertainment\, an indoor “ice” rink for synthetic ice skating\, inflatables for the kids\, retail vendors\,  a demo area for winter sports gear\,  and free food from local food trucks. \nAdmission:  Kids 4-12 $5\, Adults (access + beers) $30\, Adults access only $15. \nFree Shuttle Bus service too! \n 
URL:https://estes-park.com/event/estes-park-winter-festival/
LOCATION:Estes Park Events Complex\, 1125 Rooftop Way\, Estes Park\, CO\, 80517\, United States
ATTACH;FMTTYPE=image/jpeg:https://estes-park.com/app/uploads/2018/12/EP-Winter-Festival-2012-027.jpg
END:VEVENT
END:VCALENDAR